BEGIN:VCALENDAR
VERSION:2.0
PRODID:-//Flight Association Drachten - ECPv6.15.17.1//NONSGML v1.0//EN
CALSCALE:GREGORIAN
METHOD:PUBLISH
X-WR-CALNAME:Flight Association Drachten
X-ORIGINAL-URL:https://flightassociationdrachten.nl
X-WR-CALDESC:Evenementen voor Flight Association Drachten
REFRESH-INTERVAL;VALUE=DURATION:PT1H
X-Robots-Tag:noindex
X-PUBLISHED-TTL:PT1H
BEGIN:VTIMEZONE
TZID:Europe/Paris
BEGIN:DAYLIGHT
TZOFFSETFROM:+0100
TZOFFSETTO:+0200
TZNAME:CEST
DTSTART:20240331T010000
END:DAYLIGHT
BEGIN:STANDARD
TZOFFSETFROM:+0200
TZOFFSETTO:+0100
TZNAME:CET
DTSTART:20241027T010000
END:STANDARD
BEGIN:DAYLIGHT
TZOFFSETFROM:+0100
TZOFFSETTO:+0200
TZNAME:CEST
DTSTART:20250330T010000
END:DAYLIGHT
BEGIN:STANDARD
TZOFFSETFROM:+0200
TZOFFSETTO:+0100
TZNAME:CET
DTSTART:20251026T010000
END:STANDARD
BEGIN:DAYLIGHT
TZOFFSETFROM:+0100
TZOFFSETTO:+0200
TZNAME:CEST
DTSTART:20260329T010000
END:DAYLIGHT
BEGIN:STANDARD
TZOFFSETFROM:+0200
TZOFFSETTO:+0100
TZNAME:CET
DTSTART:20261025T010000
END:STANDARD
BEGIN:DAYLIGHT
TZOFFSETFROM:+0100
TZOFFSETTO:+0200
TZNAME:CEST
DTSTART:20270328T010000
END:DAYLIGHT
BEGIN:STANDARD
TZOFFSETFROM:+0200
TZOFFSETTO:+0100
TZNAME:CET
DTSTART:20271031T010000
END:STANDARD
END:VTIMEZONE
BEGIN:VEVENT
DTSTART;VALUE=DATE:20260117
DTEND;VALUE=DATE:20260118
DTSTAMP:20260425T183834
CREATED:20251223T081412Z
LAST-MODIFIED:20251223T081412Z
UID:5324-1768608000-1768694399@flightassociationdrachten.nl
SUMMARY:Boerenkool en Braadworst vlucht Stadtlohn
DESCRIPTION:17 januari 2026 aanstaande wordt er vanaf Vliegveld Drachten een groepsvlucht georganiseerd naar vliegveld Stadtlohn. Iedere gebruiker van Vliegveld Drachten kan hier aan deelnemen. Opgave via de gegevens in de flyer.
URL:https://flightassociationdrachten.nl/evenement/boerenkool-en-braadworst-vlucht-stadtlohn/
LOCATION:Vliegveld Stadtlohn\, Wenningfeld 41\, Stadtlohn\, Germany
CATEGORIES:Vliegtrip
END:VEVENT
BEGIN:VEVENT
DTSTART;VALUE=DATE:20251115
DTEND;VALUE=DATE:20251116
DTSTAMP:20260425T183834
CREATED:20250621T190707Z
LAST-MODIFIED:20251015T080545Z
UID:5039-1763164800-1763251199@flightassociationdrachten.nl
SUMMARY:Dagtour Airbus fabriek Hamburg
DESCRIPTION:Ga met ons mee op excursie naar de Airbus fabriek in Hamburg. \nZoals aangekondigd organiseren we zaterdag 15 november a.s. opnieuw een excursie naar de Airbus fabriek in Hamburg Duitsland. Het is een volledig dagprogramma waarbij we ’s ochtends vroeg vanaf vliegveld Hoogeveen met een luxe touringcar vertrekken naar vliegveld Finkenwerder waar de Airbus fabriek is gevestigd in Hamburg. \n Airbus excursie locatie Hamburg-Finkenwerder: \nHier krijgen we per bus een tour over het vliegveld van Finkenwerder en te voet een rondleiding door de fabriekshallen. Hier worden de Airbus A320\, A330 en A350 onderdelen geassembleerd.
URL:https://flightassociationdrachten.nl/evenement/dagtour-airbus-fabriek-hamburg-2/
LOCATION:Finkenwerder\, Kreetslag 7\, Hamburg\, Germany
CATEGORIES:Excursie
ATTACH;FMTTYPE=image/jpeg:https://flightassociationdrachten.nl/wp-content/uploads/2025/01/Airbus-finkenwerder.jpg
ORGANIZER;CN="Flight Association Drachten":MAILTO:secretaris@flightassociationdrachten.nl
END:VEVENT
BEGIN:VEVENT
DTSTART;TZID=Europe/Paris:20251016T193000
DTEND;TZID=Europe/Paris:20251016T220000
DTSTAMP:20260425T183834
CREATED:20250522T184939Z
LAST-MODIFIED:20250522T185010Z
UID:4822-1760643000-1760652000@flightassociationdrachten.nl
SUMMARY:Algemene ledenvergadering (ALV)
DESCRIPTION:Op donderdagavond 16 oktober organiseren we weer een algemene ledenvergadering in het dorpshuis in Rottevalle. Ook hebben we weer een interessante spreker uitgenodigd. \nMeer informatie volgt.
URL:https://flightassociationdrachten.nl/evenement/algemene-ledenvergadering-alv/
LOCATION:Dorphuis IT Werflân\, Master Kuiperswei 1\, Rottevalle\, Netherlands
CATEGORIES:Bijeenkomst
ATTACH;FMTTYPE=image/jpeg:https://flightassociationdrachten.nl/wp-content/uploads/2025/02/R7AK1187-scaled.jpg
END:VEVENT
BEGIN:VEVENT
DTSTART;VALUE=DATE:20251011
DTEND;VALUE=DATE:20251013
DTSTAMP:20260425T183834
CREATED:20250725T183845Z
LAST-MODIFIED:20250903T085426Z
UID:5161-1760140800-1760313599@flightassociationdrachten.nl
SUMMARY:Vliegtrip in het weekend van 11 en 12 oktober FAD en FlightLevel
DESCRIPTION:Vliegtrip in het weekend van 11 en 12 oktober FAD en FlightLevel \nIn het weekend van 11 en 12 oktober organiseren we samen met FlightLevel een vliegtrip. \nHet plan is om dan naar Kortrijk\, België te gaan. www.kortrijkairport.be Dit via een\ntussenstop op een nader te bepalen vliegveld. \nGraag tijdig opgeven bij Martin Hansen via WhatsApp of email \nVooraf aan de vliegtrip wordt nog een informatie avond gepland\, datum en\ntijdstip volgen nog. \nHoudt ook de FL website in de gaten voor meer informatie.
URL:https://flightassociationdrachten.nl/evenement/vliegtrip-naar-de-texel-fly-in-i-s-m-flightlevel/
LOCATION:Kortrijk Airport\, Luchthavenstraat 1\, Wevelgem\, Belgium
CATEGORIES:Vliegtrip
ATTACH;FMTTYPE=image/png:https://flightassociationdrachten.nl/wp-content/uploads/2025/07/Kortrijk.png
ORGANIZER;CN="Flight Association Drachten":MAILTO:secretaris@flightassociationdrachten.nl
END:VEVENT
BEGIN:VEVENT
DTSTART;VALUE=DATE:20250823
DTEND;VALUE=DATE:20250825
DTSTAMP:20260425T183834
CREATED:20250725T185050Z
LAST-MODIFIED:20250725T185142Z
UID:5170-1755907200-1756079999@flightassociationdrachten.nl
SUMMARY:Vliegtrip naar de Texel Fly-in
DESCRIPTION:Vliegtrip naar de Texel Fly-in \nIn het weekend van 23 en 24 augustus is de Texel Fly-In 2025. We hebben samen met FlightLevel het plan\nopgevat om met meerdere toestellen naar dit gezellige evenement toe te gaan. \nTijdens de Texel Fly-In kun je met je tentje onder de vleugel kamperen\, maar je kunt ook gewoon op één dag op en neer. \nEn er is van alles te zien en te beleven op deze dag! \nZie de website van Texel Airport voor meer informatie. \nTexel Fly-In \nLaat het ons ook even weten of je meegaat!  secretaris@flightassociationdrachten.nl
URL:https://flightassociationdrachten.nl/evenement/vliegtrip-naar-de-texel-fly-in-met-flightlevel/
LOCATION:Texel International Airport\, Postweg 120\, De Cocksdorp\, Netherlands
CATEGORIES:Vliegtrip
ATTACH;FMTTYPE=image/jpeg:https://flightassociationdrachten.nl/wp-content/uploads/2025/07/Texel-Fly-in.jpg
ORGANIZER;CN="Flight Association Drachten":MAILTO:secretaris@flightassociationdrachten.nl
END:VEVENT
BEGIN:VEVENT
DTSTART;VALUE=DATE:20250719
DTEND;VALUE=DATE:20250721
DTSTAMP:20260425T183834
CREATED:20250709T200010Z
LAST-MODIFIED:20250709T200727Z
UID:5149-1752883200-1753055999@flightassociationdrachten.nl
SUMMARY:Vliegtrip Celle-Arloh/Paderborn (DE)
DESCRIPTION:In het weekend van 19 juli organiseren we een tweedaagse vliegtrip met overnachting naar Celle-Arloh in Duitsland. Geïnteresseerden kunnen zich melden via de secretaris op secretaris@flightassociationdrachten.nl \nOf meld je aan via de aanmeldknop in dit bericht. \nDeelnemers dienen zelf een vliegtuig te reserveren\, dit geldt ook voor de overnachting. Uiteraard in onderling overleg. Opgave kan tot en met 16 juli. \nZoek je nog een vliegmaatje\, laat het ons weten.
URL:https://flightassociationdrachten.nl/evenement/vliegtrip-celle-arloh-paderborn-de/
LOCATION:Celle-Arloh\, Arlohstrasse 1002\, Celle\, 29229\, Germany
CATEGORIES:Vliegtrip
ATTACH;FMTTYPE=image/jpeg:https://flightassociationdrachten.nl/wp-content/uploads/2025/07/Celle.jpg
ORGANIZER;CN="Flight Association Drachten":MAILTO:secretaris@flightassociationdrachten.nl
END:VEVENT
BEGIN:VEVENT
DTSTART;VALUE=DATE:20250705
DTEND;VALUE=DATE:20250706
DTSTAMP:20260425T183834
CREATED:20250522T184521Z
LAST-MODIFIED:20250524T151055Z
UID:4819-1751673600-1751759999@flightassociationdrachten.nl
SUMMARY:Opendag Vliegveld Drachten
DESCRIPTION:Bezoek op zaterdag 5 juli vliegveld Drachten tijdens de open dag die voor iedereen toegankelijk is. Ontdek de luchtvaart mogelijkheden op vliegveld Drachten en kom in contact met andere gelijkgestemden. Tijdens de open dag wordt ook de landelijke AOPA fly-in op Drachten georganiseerd waardoor er vele bezoekende vliegtuigen te zien zullen zijn. \nMeld je aan voor onze speciale nieuwsbrief over deze open dag via onderstaande link: \nwww.vliegclubdrachten.nl \n 
URL:https://flightassociationdrachten.nl/evenement/opendag-vliegveld-drachten/
LOCATION:Vliegveld Drachten\, De Knobben 100A\, Drachten\, Netherlands
CATEGORIES:Fly-in
ATTACH;FMTTYPE=image/png:https://flightassociationdrachten.nl/wp-content/uploads/2025/05/Open-dag-poster.png
ORGANIZER;CN="Flight Association Drachten":MAILTO:secretaris@flightassociationdrachten.nl
END:VEVENT
BEGIN:VEVENT
DTSTART;TZID=Europe/Paris:20250620T170000
DTEND;TZID=Europe/Paris:20250620T220000
DTSTAMP:20260425T183834
CREATED:20250521T193051Z
LAST-MODIFIED:20250521T193106Z
UID:4793-1750438800-1750456800@flightassociationdrachten.nl
SUMMARY:Sunset Fly-in Vliegveld Drachten
DESCRIPTION:Op vrijdag 20 juni is Vliegveld Drachten tot 22:00 uur geopend voor de landelijke Sunset Fly-in 2025. Vlieg er deze avond op uit en bezoek één van de andere Nederlandse velden of maak lokaal een rondje vanaf Drachten tijdens zonsondergang! \nMeer informatie volgt.
URL:https://flightassociationdrachten.nl/evenement/sunset-fly-in-vliegveld-drachten/
LOCATION:Vliegveld Drachten\, De Knobben 100A\, Drachten\, Netherlands
CATEGORIES:Fly-in
ATTACH;FMTTYPE=image/jpeg:https://flightassociationdrachten.nl/wp-content/uploads/2025/05/airplane-2773109_1280.jpg
ORGANIZER;CN="Flight Association Drachten":MAILTO:secretaris@flightassociationdrachten.nl
END:VEVENT
BEGIN:VEVENT
DTSTART;VALUE=DATE:20250614
DTEND;VALUE=DATE:20250616
DTSTAMP:20260425T183834
CREATED:20250521T194512Z
LAST-MODIFIED:20250522T181406Z
UID:4798-1749859200-1750031999@flightassociationdrachten.nl
SUMMARY:Vliegtrip Duitsland De Eifel
DESCRIPTION:In het weekend van 14 juni 2025 organiseren we een meerdaagse vliegtrip naar de Eifel in Duitsland. Het plan is om hier een aantal spectaculaire velden te bezoeken: \n\nKoblens-Winningen\nTraben-Trarbach\nTrier-Foehren\n\nHet plan is om zaterdag 14 juni vroeg te vertrekken en zondag weer terug te keren naar Drachten. Uiteraard e.e.a. in overleg met de deelnemers. \nHeb je interesse in deze trip? Geef je dan op via de secretaris. Op zoek naar een vliegmaatje? \nGeef dit dan door bij je aanmelding in de mail naar de secretaris. \n 
URL:https://flightassociationdrachten.nl/evenement/vliegtrip-koblenz-winningen-traben-trarbach-trier-foehren/
CATEGORIES:Vliegtrip
ATTACH;FMTTYPE=image/jpeg:https://flightassociationdrachten.nl/wp-content/uploads/2025/05/IMG_5856-rotated.jpg
ORGANIZER;CN="Flight Association Drachten":MAILTO:secretaris@flightassociationdrachten.nl
END:VEVENT
BEGIN:VEVENT
DTSTART;VALUE=DATE:20250426
DTEND;VALUE=DATE:20250428
DTSTAMP:20260425T183834
CREATED:20250326T195824Z
LAST-MODIFIED:20250326T195918Z
UID:4435-1745625600-1745798399@flightassociationdrachten.nl
SUMMARY:Vliegtrip Sønderborg - Denemarken
DESCRIPTION:In het weekend van 26/27 april organiseert de FAD een vliegtrip naar Sønderborg in Denemarken.
URL:https://flightassociationdrachten.nl/evenement/vliegtrip-sonderborg-denemarken/
LOCATION:Sønderborg\, Lufthavnsvej 1\, Sønderborg\, Denmark
ATTACH;FMTTYPE=image/jpeg:https://flightassociationdrachten.nl/wp-content/uploads/2025/03/Sdblufthavn2.jpg
ORGANIZER;CN="Flight Association Drachten":MAILTO:secretaris@flightassociationdrachten.nl
END:VEVENT
BEGIN:VEVENT
DTSTART;TZID=Europe/Paris:20250403T193000
DTEND;TZID=Europe/Paris:20250403T213000
DTSTAMP:20260425T183834
CREATED:20250219T200841Z
LAST-MODIFIED:20250319T202528Z
UID:3799-1743708600-1743715800@flightassociationdrachten.nl
SUMMARY:Algemene Leden Vergadering (ALV)
DESCRIPTION:De eerst volgende algemene ledenvergadering is op donderdagavond 3 april……
URL:https://flightassociationdrachten.nl/evenement/algemene-leden-vergadering-alv/
LOCATION:Dorphuis IT Werflân\, Master Kuiperswei 1\, Rottevalle\, Netherlands
ATTACH;FMTTYPE=image/jpeg:https://flightassociationdrachten.nl/wp-content/uploads/2025/02/R7AK1187-scaled.jpg
ORGANIZER;CN="Flight Association Drachten":MAILTO:secretaris@flightassociationdrachten.nl
END:VEVENT
BEGIN:VEVENT
DTSTART;TZID=Europe/Paris:20250329T090000
DTEND;TZID=Europe/Paris:20250329T143000
DTSTAMP:20260425T183834
CREATED:20250326T195253Z
LAST-MODIFIED:20250326T195253Z
UID:4431-1743238800-1743258600@flightassociationdrachten.nl
SUMMARY:Elfstedentocht - 't giet oan!
DESCRIPTION:Je krijgt per mail bericht op vrijdagavond 28 maart of de tocht door kan gaan i.v.m. de te verwachten weersvoorspelling.\n–   voor het programma die dag verwijs ik je graag naar de bijlage van deze mail.\n–   deze mail is gestuurd naar alle PIC’s van de betreffende toestellen.\n–   van de passagiers heb ik niet alle E-mail adressen \, dus zelf deze mail even door sturen naar jouw passagier.\n–    het inschrijfgeld bedraagt  20 euro per deelnemend toestel. Graag contant afrekenen bij aankomst.\n–   landingsgelden op EHDR zijn voor eigen rekening.\n–   Bestudeer de circuitkaart (zie bijlage) van EHDR zoals die in de praktijk wordt gevlogen\, ter voorkoming van klachten uit de omgeving.
URL:https://flightassociationdrachten.nl/evenement/elfstedentocht-t-giet-oan/
LOCATION:Vliegveld Drachten\, De Knobben 100A\, Drachten\, Netherlands
ATTACH;FMTTYPE=image/jpeg:https://flightassociationdrachten.nl/wp-content/uploads/2025/03/11-stedentocht-2025.jpg
ORGANIZER;CN="Flight Association Drachten":MAILTO:secretaris@flightassociationdrachten.nl
END:VEVENT
BEGIN:VEVENT
DTSTART;VALUE=DATE:20250301
DTEND;VALUE=DATE:20250302
DTSTAMP:20260425T183834
CREATED:20250128T190617Z
LAST-MODIFIED:20250219T195951Z
UID:3286-1740787200-1740873599@flightassociationdrachten.nl
SUMMARY:Dagtour Airbus fabriek Hamburg
DESCRIPTION:Ga met ons mee op excursie naar Airbus Hamburg……
URL:https://flightassociationdrachten.nl/evenement/dagtour-airbus-fabriek-hamburg/
LOCATION:Finkenwerder\, Kreetslag 7\, Hamburg\, Germany
ORGANIZER;CN="Flight Association Drachten":MAILTO:secretaris@flightassociationdrachten.nl
END:VEVENT
END:VCALENDAR