BEGIN:VCALENDAR
VERSION:2.0
PRODID:-//Flight Association Drachten - ECPv6.15.17.1//NONSGML v1.0//EN
CALSCALE:GREGORIAN
METHOD:PUBLISH
X-ORIGINAL-URL:https://flightassociationdrachten.nl
X-WR-CALDESC:Evenementen voor Flight Association Drachten
REFRESH-INTERVAL;VALUE=DURATION:PT1H
X-Robots-Tag:noindex
X-PUBLISHED-TTL:PT1H
BEGIN:VTIMEZONE
TZID:Europe/Paris
BEGIN:DAYLIGHT
TZOFFSETFROM:+0100
TZOFFSETTO:+0200
TZNAME:CEST
DTSTART:20240331T010000
END:DAYLIGHT
BEGIN:STANDARD
TZOFFSETFROM:+0200
TZOFFSETTO:+0100
TZNAME:CET
DTSTART:20241027T010000
END:STANDARD
BEGIN:DAYLIGHT
TZOFFSETFROM:+0100
TZOFFSETTO:+0200
TZNAME:CEST
DTSTART:20250330T010000
END:DAYLIGHT
BEGIN:STANDARD
TZOFFSETFROM:+0200
TZOFFSETTO:+0100
TZNAME:CET
DTSTART:20251026T010000
END:STANDARD
BEGIN:DAYLIGHT
TZOFFSETFROM:+0100
TZOFFSETTO:+0200
TZNAME:CEST
DTSTART:20260329T010000
END:DAYLIGHT
BEGIN:STANDARD
TZOFFSETFROM:+0200
TZOFFSETTO:+0100
TZNAME:CET
DTSTART:20261025T010000
END:STANDARD
END:VTIMEZONE
BEGIN:VEVENT
DTSTART;TZID=Europe/Paris:20251016T193000
DTEND;TZID=Europe/Paris:20251016T220000
DTSTAMP:20260425T022527
CREATED:20250522T184939Z
LAST-MODIFIED:20250522T185010Z
UID:4822-1760643000-1760652000@flightassociationdrachten.nl
SUMMARY:Algemene ledenvergadering (ALV)
DESCRIPTION:Op donderdagavond 16 oktober organiseren we weer een algemene ledenvergadering in het dorpshuis in Rottevalle. Ook hebben we weer een interessante spreker uitgenodigd. \nMeer informatie volgt.
URL:https://flightassociationdrachten.nl/evenement/algemene-ledenvergadering-alv/
LOCATION:Dorphuis IT Werflân\, Master Kuiperswei 1\, Rottevalle\, Netherlands
CATEGORIES:Bijeenkomst
ATTACH;FMTTYPE=image/jpeg:https://flightassociationdrachten.nl/wp-content/uploads/2025/02/R7AK1187-scaled.jpg
END:VEVENT
END:VCALENDAR